BEGIN:VCALENDAR
VERSION:2.0
PRODID:-//KarMik Acres - ECPv6.15.13.1//NONSGML v1.0//EN
CALSCALE:GREGORIAN
METHOD:PUBLISH
X-ORIGINAL-URL:https://www.karmikacres.com
X-WR-CALDESC:Events for KarMik Acres
REFRESH-INTERVAL;VALUE=DURATION:PT1H
X-Robots-Tag:noindex
X-PUBLISHED-TTL:PT1H
BEGIN:VTIMEZONE
TZID:America/Chicago
BEGIN:DAYLIGHT
TZOFFSETFROM:-0600
TZOFFSETTO:-0500
TZNAME:CDT
DTSTART:20190310T080000
END:DAYLIGHT
BEGIN:STANDARD
TZOFFSETFROM:-0500
TZOFFSETTO:-0600
TZNAME:CST
DTSTART:20191103T070000
END:STANDARD
BEGIN:DAYLIGHT
TZOFFSETFROM:-0600
TZOFFSETTO:-0500
TZNAME:CDT
DTSTART:20200308T080000
END:DAYLIGHT
BEGIN:STANDARD
TZOFFSETFROM:-0500
TZOFFSETTO:-0600
TZNAME:CST
DTSTART:20201101T070000
END:STANDARD
BEGIN:DAYLIGHT
TZOFFSETFROM:-0600
TZOFFSETTO:-0500
TZNAME:CDT
DTSTART:20210314T080000
END:DAYLIGHT
BEGIN:STANDARD
TZOFFSETFROM:-0500
TZOFFSETTO:-0600
TZNAME:CST
DTSTART:20211107T070000
END:STANDARD
END:VTIMEZONE
BEGIN:VEVENT
DTSTART;TZID=America/Chicago:20200808T110000
DTEND;TZID=America/Chicago:20200808T140000
DTSTAMP:20260425T082955
CREATED:20200727T171237Z
LAST-MODIFIED:20200727T171237Z
UID:17704-1596884400-1596895200@www.karmikacres.com
SUMMARY:Working Equitation Practice Session
DESCRIPTION:Time: 11-2PM\nCost: $40\nStall needed: $25\nGroup Coaching: $25 \nPrior Working Equitation experience or KarMik Acres WE Horseless Clinic Attendance.  Team KarMik Membership and negative coggins also required to attend. \nPre-registration required. Space is limited.
URL:https://www.karmikacres.com/event/working-equitation-practice-session-3/
LOCATION:KarMik Acres\, Woodstock\, IL\, United States
CATEGORIES:Working Equitation Practice Session
ORGANIZER;CN="Karen or Mike":MAILTO:info@karmikacres.com
END:VEVENT
BEGIN:VEVENT
DTSTART;TZID=America/Chicago:20200726T110000
DTEND;TZID=America/Chicago:20200726T140000
DTSTAMP:20260425T082955
CREATED:20200126T030702Z
LAST-MODIFIED:20200727T172645Z
UID:2018-1595761200-1595772000@www.karmikacres.com
SUMMARY:Working Equitation Practice Session
DESCRIPTION:Pre-registration required. Show attendees get priority registration.  Email for availability prior to registration.
URL:https://www.karmikacres.com/event/working-equitation-practice-session-8/
LOCATION:KarMik Acres\, Woodstock\, IL\, United States
CATEGORIES:Working Equitation Practice Session
ORGANIZER;CN="Karen or Mike":MAILTO:info@karmikacres.com
END:VEVENT
BEGIN:VEVENT
DTSTART;TZID=America/Chicago:20200718T110000
DTEND;TZID=America/Chicago:20200718T140000
DTSTAMP:20260425T082955
CREATED:20200126T030440Z
LAST-MODIFIED:20200619T125112Z
UID:2016-1595070000-1595080800@www.karmikacres.com
SUMMARY:Working Equitation Practice Session
DESCRIPTION:Pre-registration is required.
URL:https://www.karmikacres.com/event/working-equitation-practice-session-7/
LOCATION:KarMik Acres\, Woodstock\, IL\, United States
CATEGORIES:Working Equitation Practice Session
ORGANIZER;CN="Karen or Mike":MAILTO:info@karmikacres.com
END:VEVENT
BEGIN:VEVENT
DTSTART;TZID=America/Chicago:20200628T110000
DTEND;TZID=America/Chicago:20200628T140000
DTSTAMP:20260425T082955
CREATED:20200604T181125Z
LAST-MODIFIED:20200604T181810Z
UID:13759-1593342000-1593352800@www.karmikacres.com
SUMMARY:Working Equitation Practice
DESCRIPTION:Working Equitation obstacle practice session runs from 11-2PM. Online pre-registration is required. \n$40 per session\n$25 for dry stall if required\n$25 for group coaching \n* All riders must be members of Team KarMik to attend practice sessions ($25 annually).
URL:https://www.karmikacres.com/event/working-equitation-practice-2/
LOCATION:KarMik Acres\, Woodstock\, IL\, United States
CATEGORIES:Working Equitation Practice Session
END:VEVENT
BEGIN:VEVENT
DTSTART;TZID=America/Chicago:20200614T110000
DTEND;TZID=America/Chicago:20200614T140000
DTSTAMP:20260425T082955
CREATED:20200604T175342Z
LAST-MODIFIED:20200604T175342Z
UID:13712-1592132400-1592143200@www.karmikacres.com
SUMMARY:Working Equitation Practice
DESCRIPTION:Practice session from 11-2PM. \n$40 – per rider\n$25 – dry stall if needed\n$25 – group coaching \nSpace is limited to 8 riders. Online Pre-registration required. No spectators due to Covid restrictions. \n* Riders must be Team KarMik members to attend practice sessions ($25 annually).
URL:https://www.karmikacres.com/event/working-equitation-practice/
LOCATION:KarMik Acres\, Woodstock\, IL\, United States
CATEGORIES:Working Equitation Practice Session
END:VEVENT
BEGIN:VEVENT
DTSTART;TZID=America/Chicago:20200314T110000
DTEND;TZID=America/Chicago:20200314T140000
DTSTAMP:20260425T082955
CREATED:20200125T222834Z
LAST-MODIFIED:20200218T201839Z
UID:1900-1584183600-1584194400@www.karmikacres.com
SUMMARY:Working Equitation Practice Session
DESCRIPTION:Pre-registration required.  Pending weather so please email prior to registration.
URL:https://www.karmikacres.com/event/working-equitation-practice-session/
LOCATION:KarMik Acres\, Woodstock\, IL\, United States
CATEGORIES:Working Equitation Practice Session
ORGANIZER;CN="Karen or Mike":MAILTO:info@karmikacres.com
END:VEVENT
BEGIN:VEVENT
DTSTART;TZID=America/Chicago:20200223T110000
DTEND;TZID=America/Chicago:20200223T140000
DTSTAMP:20260425T082955
CREATED:20200127T212340Z
LAST-MODIFIED:20200127T212601Z
UID:2323-1582455600-1582466400@www.karmikacres.com
SUMMARY:Working Equitation Practice Session
DESCRIPTION:Pending Weather.  Pre-registration required. Registration fee will be refunded if we cancel due to weather. \nIf you haven’t already\, please make sure to join Team KarMik to be able to attend practice sessions. This is an annual membership fee to help with obstacle up-keep.
URL:https://www.karmikacres.com/event/working-equitation-practice-session-11/
LOCATION:KarMik Acres\, Woodstock\, IL\, United States
CATEGORIES:Working Equitation Practice Session
ORGANIZER;CN="Karen or Mike":MAILTO:info@karmikacres.com
END:VEVENT
BEGIN:VEVENT
DTSTART;TZID=America/Chicago:20200216T110000
DTEND;TZID=America/Chicago:20200216T140000
DTSTAMP:20260425T082955
CREATED:20200126T024814Z
LAST-MODIFIED:20200126T024814Z
UID:1960-1581850800-1581861600@www.karmikacres.com
SUMMARY:Working Equitation Practice Session
DESCRIPTION:Pre-registration required. Pending weather so please email prior to registration.
URL:https://www.karmikacres.com/event/working-equitation-practice-session-2/
LOCATION:KarMik Acres\, Woodstock\, IL\, United States
CATEGORIES:Working Equitation Practice Session
ORGANIZER;CN="Karen or Mike":MAILTO:info@karmikacres.com
END:VEVENT
END:VCALENDAR