BEGIN:VCALENDAR
VERSION:2.0
PRODID:-//KarMik Acres - ECPv6.15.13.1//NONSGML v1.0//EN
CALSCALE:GREGORIAN
METHOD:PUBLISH
X-ORIGINAL-URL:https://www.karmikacres.com
X-WR-CALDESC:Events for KarMik Acres
REFRESH-INTERVAL;VALUE=DURATION:PT1H
X-Robots-Tag:noindex
X-PUBLISHED-TTL:PT1H
BEGIN:VTIMEZONE
TZID:America/Chicago
BEGIN:DAYLIGHT
TZOFFSETFROM:-0600
TZOFFSETTO:-0500
TZNAME:CDT
DTSTART:20190310T080000
END:DAYLIGHT
BEGIN:STANDARD
TZOFFSETFROM:-0500
TZOFFSETTO:-0600
TZNAME:CST
DTSTART:20191103T070000
END:STANDARD
BEGIN:DAYLIGHT
TZOFFSETFROM:-0600
TZOFFSETTO:-0500
TZNAME:CDT
DTSTART:20200308T080000
END:DAYLIGHT
BEGIN:STANDARD
TZOFFSETFROM:-0500
TZOFFSETTO:-0600
TZNAME:CST
DTSTART:20201101T070000
END:STANDARD
BEGIN:DAYLIGHT
TZOFFSETFROM:-0600
TZOFFSETTO:-0500
TZNAME:CDT
DTSTART:20210314T080000
END:DAYLIGHT
BEGIN:STANDARD
TZOFFSETFROM:-0500
TZOFFSETTO:-0600
TZNAME:CST
DTSTART:20211107T070000
END:STANDARD
BEGIN:DAYLIGHT
TZOFFSETFROM:-0600
TZOFFSETTO:-0500
TZNAME:CDT
DTSTART:20220313T080000
END:DAYLIGHT
BEGIN:STANDARD
TZOFFSETFROM:-0500
TZOFFSETTO:-0600
TZNAME:CST
DTSTART:20221106T070000
END:STANDARD
BEGIN:DAYLIGHT
TZOFFSETFROM:-0600
TZOFFSETTO:-0500
TZNAME:CDT
DTSTART:20230312T080000
END:DAYLIGHT
BEGIN:STANDARD
TZOFFSETFROM:-0500
TZOFFSETTO:-0600
TZNAME:CST
DTSTART:20231105T070000
END:STANDARD
BEGIN:DAYLIGHT
TZOFFSETFROM:-0600
TZOFFSETTO:-0500
TZNAME:CDT
DTSTART:20240310T080000
END:DAYLIGHT
BEGIN:STANDARD
TZOFFSETFROM:-0500
TZOFFSETTO:-0600
TZNAME:CST
DTSTART:20241103T070000
END:STANDARD
BEGIN:DAYLIGHT
TZOFFSETFROM:-0600
TZOFFSETTO:-0500
TZNAME:CDT
DTSTART:20250309T080000
END:DAYLIGHT
BEGIN:STANDARD
TZOFFSETFROM:-0500
TZOFFSETTO:-0600
TZNAME:CST
DTSTART:20251102T070000
END:STANDARD
BEGIN:DAYLIGHT
TZOFFSETFROM:-0600
TZOFFSETTO:-0500
TZNAME:CDT
DTSTART:20260308T080000
END:DAYLIGHT
BEGIN:STANDARD
TZOFFSETFROM:-0500
TZOFFSETTO:-0600
TZNAME:CST
DTSTART:20261101T070000
END:STANDARD
END:VTIMEZONE
BEGIN:VEVENT
DTSTART;TZID=America/Chicago:20250809T100000
DTEND;TZID=America/Chicago:20250810T170000
DTSTAMP:20260423T124725
CREATED:20250218T214752Z
LAST-MODIFIED:20250218T214845Z
UID:28442-1754733600-1754845200@www.karmikacres.com
SUMMARY:Working Equitation Clinic and Schooling Show
DESCRIPTION:Clinic focus will be primarily on the Ease of Handling Phase (obstacles with finesse) although we can review any questions on the Dressage phase. \nClinic is limited to 10 riders / show is limited to 12 riders / Pre-registration required \nClinic/show Price: $275\nShow only price: $125
URL:https://www.karmikacres.com/event/working-equitation-clinic-and-schooling-show-2/
LOCATION:KarMik Acres\, Woodstock\, IL\, United States
CATEGORIES:Working Equitation Clinic,Working Equitation Shows
ORGANIZER;CN="Karen or Mike":MAILTO:info@karmikacres.com
END:VEVENT
BEGIN:VEVENT
DTSTART;TZID=America/Chicago:20250621T080000
DTEND;TZID=America/Chicago:20250622T170000
DTSTAMP:20260423T124725
CREATED:20250218T220112Z
LAST-MODIFIED:20250218T220112Z
UID:28456-1750492800-1750611600@www.karmikacres.com
SUMMARY:Working Equitation Shows - June Beyond Stables Farm
DESCRIPTION:Two one day Working Equitation Shows held at Beyond Stables Farm in Woodstock\, IL \nJudge: Rebecca Algar\nTechnical Delegate: Karen Boso \nRiders limited to 25 per show \nEmail Info@KarMikAcres.com for registration form.
URL:https://www.karmikacres.com/event/working-equitation-shows-june-beyond-stables-farm/
LOCATION:Beyond Stable Farm\, 11129 IL Route 176\, Woodstock\, IL\, 60098\, United States
CATEGORIES:Working Equitation Shows
ORGANIZER;CN="Karen or Mike":MAILTO:info@karmikacres.com
END:VEVENT
BEGIN:VEVENT
DTSTART;TZID=America/Chicago:20250503T080000
DTEND;TZID=America/Chicago:20250504T170000
DTSTAMP:20260423T124725
CREATED:20250218T215831Z
LAST-MODIFIED:20250218T215831Z
UID:28454-1746259200-1746378000@www.karmikacres.com
SUMMARY:Working Equitation Shows - May
DESCRIPTION:Two One day Working Equitation Shows. \nRegistration limited to 13 riders per show. \nPractice session also available on Friday from 11-4PM \nEmail Info@KarMikAcres.com for registration form.
URL:https://www.karmikacres.com/event/working-equitation-shows-may/
LOCATION:KarMik Acres\, Woodstock\, IL\, United States
CATEGORIES:Working Equitation Shows
ORGANIZER;CN="Karen or Mike":MAILTO:info@karmikacres.com
END:VEVENT
BEGIN:VEVENT
DTSTART;TZID=America/Chicago:20241025T080000
DTEND;TZID=America/Chicago:20241027T170000
DTSTAMP:20260423T124725
CREATED:20240225T211831Z
LAST-MODIFIED:20240225T211831Z
UID:28388-1729843200-1730048400@www.karmikacres.com
SUMMARY:Working Equitation Shows Oct. 26 & 27th
DESCRIPTION:Details to come
URL:https://www.karmikacres.com/event/working-equitation-shows-oct-26-27th/
LOCATION:KarMik Acres\, Woodstock\, IL\, United States
CATEGORIES:Working Equitation Clinic,Working Equitation Practice Session,Working Equitation Shows
END:VEVENT
BEGIN:VEVENT
DTSTART;TZID=America/Chicago:20240906T080000
DTEND;TZID=America/Chicago:20240907T170000
DTSTAMP:20260423T124725
CREATED:20240225T211707Z
LAST-MODIFIED:20240225T211707Z
UID:28386-1725609600-1725728400@www.karmikacres.com
SUMMARY:Working Equitation Shows Sept. 7 & 8th
DESCRIPTION:Details to come. \nWorking Equitation Shows Saturday and Sunday
URL:https://www.karmikacres.com/event/working-equitation-shows-sept-7-8th/
LOCATION:KarMik Acres\, Woodstock\, IL\, United States
CATEGORIES:Working Equitation Shows
END:VEVENT
BEGIN:VEVENT
DTSTART;TZID=America/Chicago:20240712T090000
DTEND;TZID=America/Chicago:20240714T170000
DTSTAMP:20260423T124725
CREATED:20240225T211346Z
LAST-MODIFIED:20240225T211527Z
UID:28384-1720774800-1720976400@www.karmikacres.com
SUMMARY:Working Equitation Shows July 13 & 14th
DESCRIPTION:Working Equitation shows on Saturday and Sunday.  Ride in either USAWE Licensed show or Schooling rides. \nFriday: Open Practice Session from 11-4PM\nSaturday: Licensed/schooling show\nSunday: Licensed/schooling show \nJudge: Lidia Taylor\nTechnical Delegate: Karen Boso\nShow Manager: Mike Boso \nShow in Levels 1-5. \nOnline Registration available: https://forms.gle/gqoDUnHMAqbmXT6p6
URL:https://www.karmikacres.com/event/working-equitation-shows-july-13-14th/
LOCATION:KarMik Acres\, Woodstock\, IL\, United States
CATEGORIES:Working Equitation Shows
END:VEVENT
BEGIN:VEVENT
DTSTART;TZID=America/Chicago:20240531T080000
DTEND;TZID=America/Chicago:20240602T170000
DTSTAMP:20260423T124725
CREATED:20240225T211059Z
LAST-MODIFIED:20240225T211059Z
UID:28382-1717142400-1717347600@www.karmikacres.com
SUMMARY:Working Equitation Shows June 1 & 2
DESCRIPTION:Working Equitation shows on Saturday and Sunday.  Ride in either USAWE Licensed show or Schooling rides. \nFriday: Open Practice Session from 11-4PM\nSaturday: Licensed/schooling show\nSunday: Licensed/schooling show \nJudge: Lidia Taylor\nTechnical Delegate: Karen Boso\nShow Manager: Mike Boso \nShow in Levels 1-5. \nOnline Registration available: https://forms.gle/TFrUgZ6FHraBZK6U7
URL:https://www.karmikacres.com/event/working-equitation-shows-june-1-2/
LOCATION:IL
CATEGORIES:Working Equitation Practice Session,Working Equitation Shows
END:VEVENT
BEGIN:VEVENT
DTSTART;TZID=America/Chicago:20240517T100000
DTEND;TZID=America/Chicago:20240519T170000
DTSTAMP:20260423T124725
CREATED:20240225T203745Z
LAST-MODIFIED:20240225T203745Z
UID:28379-1715940000-1716138000@www.karmikacres.com
SUMMARY:Working Equitation Clinic and Schooling Show
DESCRIPTION:Format:\nFriday – riders will work with Jake Biernbaum of Pear Tree Ranch on horsemanship topics related to obstacle work.\nSaturday – riders will work with Karen and Mike Boso of KarMik Acres on Working Equitation Sport training.\nSunday – riders will participate in a stress free Working Equitation schooling show where riders can be coached through each phase. \nLimited to 8 riders for the clinic and 13 riders for the schooling show. \nCost: $650 which includes a dry stall for the three days.
URL:https://www.karmikacres.com/event/working-equitation-clinic-and-schooling-show/
LOCATION:KarMik Acres\, Woodstock\, IL\, United States
CATEGORIES:Working Equitation Clinic,Working Equitation Shows
END:VEVENT
BEGIN:VEVENT
DTSTART;TZID=America/Chicago:20230617T080000
DTEND;TZID=America/Chicago:20230618T170000
DTSTAMP:20260423T124725
CREATED:20221115T211623Z
LAST-MODIFIED:20230314T125204Z
UID:28300-1686988800-1687107600@www.karmikacres.com
SUMMARY:KarMik Acres Working Equitation Show Extravaganza USAWE Licensed
DESCRIPTION:KarMik Acres show series – Show hosted by KarMik Acres and Judging seminar hosted by USAWE. Those attending the Judging seminar are welcomed and encouraged to attend the Saturday night meet and greet dinner at Beyond Stables Farm. Tickets are $25 – very casual and fun!  Extra tickets can be purchased. Email Info@KarMikAcres.com for details. \nWelcome to KarMik Acres’ Working Equitation Extravaganza Show June 17-18th with WAWE Judge José Andrés Benito from Spain.  Rider spots are limited to 40. Pre-registration required and early registration recommended. This is an incredible opportunity to be judged by a WAWE judge.  This show is being held in conjunction with a USAWE Licensed Officials Judging Seminar. Registration for the judging seminar is done through USAWE.org and is open to all. Due to the training nature of these shows\, we are limiting the number of riders at each level. Limited to 10 Introductory riders and 10 Novice A riders. You will be approved for registration at your level – first registered and paid in full gets on the rider list. Team KarMik members will have priority registration from Feb. 15th-25th and then open to all other riders. We will maintain a waiting list for Levels 1 & 2 in the event that space opens up.\nThis is an online registration form for this KarMik Acres USAWE Licensed Working Equitation show (Lic # 23-014). Once your forms are filled out and accepted\, we will send you an invoice due upon receipt via check to KarMik Acres\, Inc. or via PayPal (fees added 4%). Your entry will not be considered complete until payment is received. Entry fees are non-refundable unless we can fill your rider spot(s) with another competitor.  Please fill out one form for each horse/rider combination. You will also need to mail in a copy of your current negative coggins and out of state horses will be required to have a health certificate (state requirement for traveling). Registrations MUST be completed by June 1st. Late fee of $50 applies for entries made or changed between June 1st and June 15th. \nJudge: José Andrés Benito – WAWE\nTechnical Delegate: Karen Ulven\nGate Steward: Peggy Anderson\nPaddock Steward: TBD \nShow Manager/Secretary:  Karen Boso\nScribe: Rebecca Algar\nLocation: Beyond Stables Farm\, Woodstock\, IL\nStart time: 8AMAs part of your entry fee there will be a casual\, catered dinner Saturday evening after the show. Concessions will be available on site Saturday and Sunday from 8:15 until after lunch. \nThis show is part of KarMik Acres show series which include year end awards by Level.   You must attend a minimum of 4 KarMik Acres shows and be a member of Team KarMik (registration on website) for awards in this series.  The 2023 KarMik Acres show series includes the following shows: \n• May 19th-20th clinic and schooling show\n• June 3 & 4th – two USAWE Licensed shows \n• June 17 & 18th – One USAWE Licensed show\n• July 15 & 16th – Two USAWE Licensed shows\n• August 11-12th clinic and schooling show\n• Sept. 9 & 10th – Two USAWE Licensed shows\n• Oct. 28 & 29th – Two USAWE Licensed shows \n• Nov. – possible schooling show\n\nHUGE Thank you to our show series sponsor: EspanaSILK Grooming Products
URL:https://www.karmikacres.com/event/karmik-acres-working-equitation-show-extravaganza-usawe-licensed/
LOCATION:Beyond Stable Farm\, 11129 IL Route 176\, Woodstock\, IL\, 60098\, United States
CATEGORIES:Working Equitation Shows
ORGANIZER;CN="Karen or Mike":MAILTO:info@karmikacres.com
END:VEVENT
BEGIN:VEVENT
DTSTART;TZID=America/Chicago:20230603T090000
DTEND;TZID=America/Chicago:20230604T170000
DTSTAMP:20260423T124725
CREATED:20221203T004941Z
LAST-MODIFIED:20221203T005049Z
UID:28305-1685782800-1685898000@www.karmikacres.com
SUMMARY:KarMik Acres Working Equitation Shows June 3 & 4th
DESCRIPTION:Two Working Equitation Shows Licensed by USAWE. \nJudge: Lidia Taylor\nTechnical Delegate: Karen Ulven/Peggy Anderson \nLevels 1-5 \nSchooling rounds available if space permits. \nRibbons 1-6th Open Division by Phase\, Champion and Reserve Champion
URL:https://www.karmikacres.com/event/karmik-acres-working-equitation-shows-june-3-4th/
LOCATION:KarMik Acres\, Woodstock\, IL\, United States
CATEGORIES:Working Equitation Shows
ORGANIZER;CN="Karen or Mike":MAILTO:info@karmikacres.com
END:VEVENT
BEGIN:VEVENT
DTSTART;VALUE=DATE:20221021
DTEND;VALUE=DATE:20221024
DTSTAMP:20260423T124725
CREATED:20211116T191515Z
LAST-MODIFIED:20211116T191515Z
UID:28256-1666310400-1666569599@www.karmikacres.com
SUMMARY:Central States Zone USAWE Working Equitation Show
DESCRIPTION:HOLD THE DATES! \nTwo qualifying rides of 58% (average of Dressage and EOH) required. Two different judges. \nQualifying shows:\n• KarMik Acres\, June 4 & 5th\, July 16 & 17th and Sept. 10 and 11th \nDetails to come.  Join the fun in Hutchinson\, Kansas!
URL:https://www.karmikacres.com/event/central-states-zone-usawe-working-equitation-show/
LOCATION:IL
CATEGORIES:Working Equitation Shows
END:VEVENT
BEGIN:VEVENT
DTSTART;TZID=America/Chicago:20220910T080000
DTEND;TZID=America/Chicago:20220911T170000
DTSTAMP:20260423T124725
CREATED:20211116T190228Z
LAST-MODIFIED:20211116T190228Z
UID:28253-1662796800-1662915600@www.karmikacres.com
SUMMARY:Sept. 10 & 11th USAWE Licensed Working Equitation Shows
DESCRIPTION:Email for details at Info@KarMikAcres.com \nTwo separate one day USAWE licensed shows. Ride in one or both days for National points and KarMik Acres show series points. \nLevels 1-7 \nSchooling Rounds also available. \nJudge: Sue Watkins\nShow Manager: Karen Boso
URL:https://www.karmikacres.com/event/sept-10-11th-usawe-licensed-working-equitation-shows/
LOCATION:KarMik Acres\, Woodstock\, IL\, United States
CATEGORIES:Working Equitation Shows
ORGANIZER;CN="Karen or Mike":MAILTO:info@karmikacres.com
END:VEVENT
BEGIN:VEVENT
DTSTART;TZID=America/Chicago:20220820T100000
DTEND;TZID=America/Chicago:20220821T170000
DTSTAMP:20260423T124725
CREATED:20211116T192735Z
LAST-MODIFIED:20220719T160439Z
UID:28260-1660989600-1661101200@www.karmikacres.com
SUMMARY:Working Equitation Weekend
DESCRIPTION:Saturday is a Working Equitation clinic with focus on Ease of Handling phase. Other Working Equitation topics may be covered as well. 10am till 4:30pm \nCost is $125 per rider. Limited to 10 riders \nSunday is a Working Equitation schooling show. Ribbons awarded First through Fifth Place overall and points earned go toward KarMik Acres 2022 Show Series Year End Awards.  Not required to ride in clinic. Starts at 9am till about 4:30pm.  Limited to 13 riders.\nCost is $100 per rider. Stall included for the day (bring your own shavings\, feed and water bucket). \nYou can ride in one or both days. Riders signing up for both days have priority.
URL:https://www.karmikacres.com/event/working-equitation-weekend-3/
LOCATION:KarMik Acres\, Woodstock\, IL\, United States
CATEGORIES:Working Equitation Clinic,Working Equitation Shows
ORGANIZER;CN="Karen or Mike":MAILTO:info@karmikacres.com
END:VEVENT
BEGIN:VEVENT
DTSTART;TZID=America/Chicago:20220716T090000
DTEND;TZID=America/Chicago:20220717T170000
DTSTAMP:20260423T124725
CREATED:20211116T185452Z
LAST-MODIFIED:20211116T190328Z
UID:28248-1657962000-1658077200@www.karmikacres.com
SUMMARY:July 16 & 17th USAWE Licensed Working Equitation Shows
DESCRIPTION:Email for details at Info@KarMikAcres.com \nTwo separate one day USAWE B-Rated shows. Ride in one or both days for National points and KarMik Acres show series points. \nLevels 1-7 \nSchooling Rounds also available. \nJudge: Doreen Atkinson\nShow Manager: Karen Boso \n 
URL:https://www.karmikacres.com/event/july-16-17th-usawe-b-rated-working-equitation-shows/
LOCATION:KarMik Acres\, Woodstock\, IL\, United States
CATEGORIES:Working Equitation Shows
ORGANIZER;CN="Karen or Mike":MAILTO:info@karmikacres.com
END:VEVENT
BEGIN:VEVENT
DTSTART;TZID=America/Chicago:20220604T080000
DTEND;TZID=America/Chicago:20220605T170000
DTSTAMP:20260423T124725
CREATED:20211116T190046Z
LAST-MODIFIED:20211116T190046Z
UID:28251-1654329600-1654448400@www.karmikacres.com
SUMMARY:June 4 & 5th USAWE Licensed Working Equitation Shows
DESCRIPTION:Email for details at Info@KarMikAcres.com \nTwo separate one day USAWE licensed shows. Ride in one or both days for National points and KarMik Acres show series points. Schooling rides also available. \nLevels 1-5 \nSchooling Rounds also available. \nJudge: Lidia Taylor\nShow Manager: Karen Boso
URL:https://www.karmikacres.com/event/june-4-5th-usawe-licensed-working-equitation-shows/
LOCATION:KarMik Acres\, Woodstock\, IL\, United States
CATEGORIES:Working Equitation Shows
ORGANIZER;CN="Karen or Mike":MAILTO:info@karmikacres.com
END:VEVENT
BEGIN:VEVENT
DTSTART;TZID=America/Chicago:20220514T080000
DTEND;TZID=America/Chicago:20220515T170000
DTSTAMP:20260423T124725
CREATED:20211116T192626Z
LAST-MODIFIED:20220119T204903Z
UID:28258-1652515200-1652634000@www.karmikacres.com
SUMMARY:Working Equitation Weekend
DESCRIPTION:Saturday is a Working Equitation clinic with focus on Ease of Handling phase. Other Working Equitation topics may be covered as well. 10am till 4:30pm\nCost is $125 per rider. Limited to 8 riders \nSunday is a Working Equitation schooling show. Not required to ride in clinic. Starts at 9am till about 4:30pm.  Limited to 13 riders.\nCost is $100 per rider. Stall included (bring your own shavings\, feed and water bucket) \nYou can ride in one or both days. Riders signing up for both days have priority.
URL:https://www.karmikacres.com/event/working-equitation-weekend-2/
LOCATION:KarMik Acres\, Woodstock\, IL\, United States
CATEGORIES:Working Equitation Clinic,Working Equitation Shows
ORGANIZER;CN="Karen or Mike":MAILTO:info@karmikacres.com
END:VEVENT
BEGIN:VEVENT
DTSTART;TZID=America/Chicago:20211009T080000
DTEND;TZID=America/Chicago:20211011T170000
DTSTAMP:20260423T124725
CREATED:20210118T191657Z
LAST-MODIFIED:20210722T164728Z
UID:28197-1633766400-1633971600@www.karmikacres.com
SUMMARY:Working Equitation B-Rated Shows Oct. 9\, 10 - 11th
DESCRIPTION:These are three separate one day Working Equitation shows (Saturday\, Sunday and Monday) and part of the 2021 KarMik Acres’ 7 show series for year end awards. \nAll shows in Year End Series\n• July 18th Schooling Show at KarMik Acres*\n• Sept. 4\, 5 & 6th  –  B-Rated Shows at KarMik Acres\n• Oct. 9\, 10 & 11th – B-Rated Shows at KarMik Acres\nYear end KarMik Acres 2021 show series will include 7-8 shows (one-two schooling shows and 6 B-rated/schooling shows) \nJudges:  July – Karen Boso\, Sept. – Lidia Taylor “r” rating and October – Doreen Atkinson “S” rating\,\nTD: Karen Ulven\nShow Manager/Secretary: Karen Boso\nLevels: Intro Level 1 through Level 5\nLocation: KarMik Acres \nU.S. Rules for Working Equitation will be used. \nLimited to 15 riders. Pre-registration required. Email for details\, registration link and fees.
URL:https://www.karmikacres.com/event/working-equitation-b-rated-shows-oct-9-10th/
LOCATION:KarMik Acres\, Woodstock\, IL\, United States
CATEGORIES:Working Equitation Shows
END:VEVENT
BEGIN:VEVENT
DTSTART;TZID=America/Chicago:20210904T080000
DTEND;TZID=America/Chicago:20210906T170000
DTSTAMP:20260423T124725
CREATED:20210118T191453Z
LAST-MODIFIED:20210722T165817Z
UID:28194-1630742400-1630947600@www.karmikacres.com
SUMMARY:Working Equitation B-Rated Shows Sept. 4\, 5 & 6th
DESCRIPTION:These are three separate one day Working Equitation shows (Saturday\, Sunday and Monday) and part of the 2021 KarMik Acres’ 8 show series for year end awards. \nAll shows in Year End Series\n• July 18th Schooling Show at KarMik Acres*\n• Sept. 4\, 5 & 6th  –  B-Rated Shows at KarMik Acres\n• Oct. 9\, 10 & 11th – B-Rated Shows at KarMik Acres \nJudges:  July – Karen Boso\, September – Lidia Taylor “r” rated\, October – Doreen Atkinson “S” rated\nTD: Karen Ulven\nShow Manager/Secretary: Karen Boso\nLevels: Intro Level 1 through Level 5\nLocation: KarMik Acres \nU.S. Rules for Working Equitation will be used. \nLimited to 15 riders. Pre-registration required. Email for details\, registration link and fees.
URL:https://www.karmikacres.com/event/working-equitation-b-rated-shows-sept-4-5th/
LOCATION:KarMik Acres\, Woodstock\, IL\, United States
CATEGORIES:Working Equitation Shows
ORGANIZER;CN="Karen or Mike":MAILTO:info@karmikacres.com
END:VEVENT
BEGIN:VEVENT
DTSTART;TZID=America/Chicago:20210718T090000
DTEND;TZID=America/Chicago:20210718T170000
DTSTAMP:20260423T124725
CREATED:20210118T192022Z
LAST-MODIFIED:20210118T192022Z
UID:28201-1626598800-1626627600@www.karmikacres.com
SUMMARY:Working Equitation Schooling Show July 18th
DESCRIPTION:These are two separate one day Working Equitation shows (Saturday and Sunday) and part of the 2021 KarMik Acres’ 8 show series for year end awards. \nAll shows in Year End Series\n• April 25th Schooling Show at KarMik Acres*\n• June 5 & 6th – B-Rated Shows at KarMik Acres\n• July 18th Schooling Show at KarMik Acres*\n• Sept. 4 & 5  –  B-Rated Shows at KarMik Acres\n• Oct. 9 & 10th – B-Rated Shows at KarMik Acres \nJudges:  April and July – Karen Boso\, June and October – Doreen Atkinson “S” rating\, Sept. – pending\nTD: Karen Ulven\nShow Manager/Secretary: Karen Boso\nLevels: Intro Level 1 through Masters Level 7 – All classes will be Open Divisions\nLocation: KarMik Acres \nU.S. Rules for Working Equitation will be used. \n* Points for KarMik Acres’ schooling shows will also count towards the Illiana Working Equitation show series. \nLimited to 15 riders. Pre-registration required. Email for details\, registration link and fees.
URL:https://www.karmikacres.com/event/working-equitation-schooling-show-july-18th/
LOCATION:KarMik Acres\, Woodstock\, IL\, United States
CATEGORIES:Working Equitation Shows
ORGANIZER;CN="Karen or Mike":MAILTO:info@karmikacres.com
END:VEVENT
BEGIN:VEVENT
DTSTART;TZID=America/Chicago:20210605T080000
DTEND;TZID=America/Chicago:20210606T170000
DTSTAMP:20260423T124725
CREATED:20210118T191303Z
LAST-MODIFIED:20210118T191303Z
UID:28192-1622880000-1622998800@www.karmikacres.com
SUMMARY:Working Equitation B-Rated Shows June 5 & 6th
DESCRIPTION:These are two separate one day Working Equitation shows (Saturday and Sunday) and part of the 2021 KarMik Acres’ 8 show series for year end awards. \nAll shows in Year End Series\n• April 25th Schooling Show at KarMik Acres*\n• June 5 & 6th – B-Rated Shows at KarMik Acres\n• July 18th Schooling Show at KarMik Acres*\n• Sept. 4 & 5  –  B-Rated Shows at KarMik Acres\n• Oct. 9& 10th – B-Rated Shows at KarMik Acres \nJudges:  April and July – Karen Boso\, June and October – Doreen Atkinson “S” rating\, Sept. – pending\nTD: Karen Ulven\nShow Manager/Secretary: Karen Boso\nLevels: Intro Level 1 through Masters Level 7 – All classes will be Open Divisions\nLocation: KarMik Acres \nU.S. Rules for Working Equitation will be used. \n* Points for KarMik Acres’ schooling shows will also count towards the Illiana Working Equitation show series. \nLimited to 15 riders. Pre-registration required. Email for details\, registration link and fees.
URL:https://www.karmikacres.com/event/working-equitation-b-rated-shows-june-5-6th/
LOCATION:KarMik Acres\, Woodstock\, IL\, United States
CATEGORIES:Working Equitation Shows
ORGANIZER;CN="Karen or Mike":MAILTO:info@karmikacres.com
END:VEVENT
BEGIN:VEVENT
DTSTART;TZID=America/Chicago:20210425T090000
DTEND;TZID=America/Chicago:20210425T170000
DTSTAMP:20260423T124725
CREATED:20210118T191847Z
LAST-MODIFIED:20210118T191847Z
UID:28199-1619341200-1619370000@www.karmikacres.com
SUMMARY:Working Equitation Schooling Show April 25th
DESCRIPTION:These are two separate one day Working Equitation shows (Saturday and Sunday) and part of the 2021 KarMik Acres’ 8 show series for year end awards. \nAll shows in Year End Series\n• April 25th Schooling Show at KarMik Acres*\n• June 5 & 6th – B-Rated Shows at KarMik Acres\n• July 18th Schooling Show at KarMik Acres*\n• Sept. 4 & 5  –  B-Rated Shows at KarMik Acres\n• Oct. 9 & 10th – B-Rated Shows at KarMik Acres \nJudges:  April and July – Karen Boso\, June and October – Doreen Atkinson “S” rating\, Sept. – pending\nTD: Karen Ulven\nShow Manager/Secretary: Karen Boso\nLevels: Intro Level 1 through Masters Level 7 – All classes will be Open Divisions\nLocation: KarMik Acres \nU.S. Rules for Working Equitation will be used. \n* Points for KarMik Acres’ schooling shows will also count towards the Illiana Working Equitation show series. \nLimited to 15 riders. Pre-registration required. Email for details\, registration link and fees.
URL:https://www.karmikacres.com/event/working-equitation-schooling-show-april-25th/
LOCATION:KarMik Acres\, Woodstock\, IL\, United States
CATEGORIES:Working Equitation Shows
ORGANIZER;CN="Karen or Mike":MAILTO:info@karmikacres.com
END:VEVENT
BEGIN:VEVENT
DTSTART;TZID=America/Chicago:20201108T090000
DTEND;TZID=America/Chicago:20201108T170000
DTSTAMP:20260423T124725
CREATED:20200128T181440Z
LAST-MODIFIED:20201015T165823Z
UID:2472-1604826000-1604854800@www.karmikacres.com
SUMMARY:Meadowsweet Ranch Working Equitation Schooling Show
DESCRIPTION:Low pressure environment to have some fun\, try something new and put your horsemanship to the test. \nLimited to 15 riders. Levels 1-5. Judged by Karen Boso \nContact Kathy at Meadowsweet for registration and costs. \n 
URL:https://www.karmikacres.com/event/meadowsweet-ranch-working-equitation-schooling-show-2/
LOCATION:Meadowsweet Ranch\, Spring Grove\, IL\, Spring Grove\, IL\, United States
CATEGORIES:Working Equitation Shows
END:VEVENT
BEGIN:VEVENT
DTSTART;TZID=America/Chicago:20201024T080000
DTEND;TZID=America/Chicago:20201025T170000
DTSTAMP:20260423T124725
CREATED:20200126T223704Z
LAST-MODIFIED:20200604T182315Z
UID:2119-1603526400-1603645200@www.karmikacres.com
SUMMARY:Working Equitation Shows October 24 & 25th
DESCRIPTION:These are two separate one day Working Equitation shows (Saturday and Sunday) and part of a KarMik Acres’ 10 show series for year end awards. \nOther shows in Year End Series\n• May 2 & 3rd at KarMik Acres – Cancelled due to Covid-19\n• June 13 & 14th – Cancelled due to Covid-19\n• July 25 & 26th at KarMik Acres\n• August 29 & 30th at KarMik Acres \nJudge:  Doreen Atkinson “S” rating\nTD: TBD\nShow Manage/Secretary: Karen Boso\nLevels: Intro Level 1 through Masters Level 7 – All classes will be Open Divisions\nLocation: KarMik Acres \nU.S. Rules for Working Equitation will be used. \nLimited to 10 outside riders. Pre-registration required. Email for details\, registration link and fees.
URL:https://www.karmikacres.com/event/working-equitation-shows-5/
LOCATION:KarMik Acres\, Woodstock\, IL\, United States
CATEGORIES:Working Equitation Shows
ORGANIZER;CN="Karen or Mike":MAILTO:info@karmikacres.com
END:VEVENT
BEGIN:VEVENT
DTSTART;TZID=America/Chicago:20200822T080000
DTEND;TZID=America/Chicago:20200823T170000
DTSTAMP:20260423T124725
CREATED:20200126T223548Z
LAST-MODIFIED:20200727T172909Z
UID:2117-1598083200-1598202000@www.karmikacres.com
SUMMARY:Working Equitation Shows - August 22 & 23th
DESCRIPTION:These are two separate one day Working Equitation shows (Saturday and Sunday) and part of a KarMik Acres’ show series for year end awards. Practice session on Friday\, Aug. 21st from 11-4PM. Pre-registration required. \nOther shows in Year End Series\n• B-Rated Sept. 19 & 20th at KarMik Acres\n• B-Rated Oct. 24 & 25th at KarMik Acres \nJudge:  Lidia Taylor\nTD: Karen Ulven\nScribe: Karen Boso\nShow Manager/Secretary: Mike Boso\nLevels: Intro Level 1 through Int. B – All classes will be Open Divisions\nLocation: KarMik Acres \nU.S. Rules for Working Equitation will be used. \nLimited to 10 outside riders. Pre-registration required. Email for details\, registration link and fees.
URL:https://www.karmikacres.com/event/working-equitation-shows-4/
LOCATION:KarMik Acres\, Woodstock\, IL\, United States
CATEGORIES:Working Equitation Shows
ORGANIZER;CN="Karen or Mike":MAILTO:info@karmikacres.com
END:VEVENT
END:VCALENDAR