BEGIN:VCALENDAR
VERSION:2.0
PRODID:-//KarMik Acres - ECPv6.15.13.1//NONSGML v1.0//EN
CALSCALE:GREGORIAN
METHOD:PUBLISH
X-WR-CALNAME:KarMik Acres
X-ORIGINAL-URL:https://www.karmikacres.com
X-WR-CALDESC:Events for KarMik Acres
REFRESH-INTERVAL;VALUE=DURATION:PT1H
X-Robots-Tag:noindex
X-PUBLISHED-TTL:PT1H
BEGIN:VTIMEZONE
TZID:America/Chicago
BEGIN:DAYLIGHT
TZOFFSETFROM:-0600
TZOFFSETTO:-0500
TZNAME:CDT
DTSTART:20190310T080000
END:DAYLIGHT
BEGIN:STANDARD
TZOFFSETFROM:-0500
TZOFFSETTO:-0600
TZNAME:CST
DTSTART:20191103T070000
END:STANDARD
BEGIN:DAYLIGHT
TZOFFSETFROM:-0600
TZOFFSETTO:-0500
TZNAME:CDT
DTSTART:20200308T080000
END:DAYLIGHT
BEGIN:STANDARD
TZOFFSETFROM:-0500
TZOFFSETTO:-0600
TZNAME:CST
DTSTART:20201101T070000
END:STANDARD
BEGIN:DAYLIGHT
TZOFFSETFROM:-0600
TZOFFSETTO:-0500
TZNAME:CDT
DTSTART:20210314T080000
END:DAYLIGHT
BEGIN:STANDARD
TZOFFSETFROM:-0500
TZOFFSETTO:-0600
TZNAME:CST
DTSTART:20211107T070000
END:STANDARD
BEGIN:DAYLIGHT
TZOFFSETFROM:-0600
TZOFFSETTO:-0500
TZNAME:CDT
DTSTART:20220313T080000
END:DAYLIGHT
BEGIN:STANDARD
TZOFFSETFROM:-0500
TZOFFSETTO:-0600
TZNAME:CST
DTSTART:20221106T070000
END:STANDARD
END:VTIMEZONE
BEGIN:VEVENT
DTSTART;TZID=America/Chicago:20210328T110000
DTEND;TZID=America/Chicago:20210328T140000
DTSTAMP:20260423T182251
CREATED:20210118T194139Z
LAST-MODIFIED:20210118T194139Z
UID:28214-1616929200-1616940000@www.karmikacres.com
SUMMARY:Working Equitation Practice Session
DESCRIPTION:We’ve constructed an over-the-top\, regulation obstacle course for the Working Equitation Shows\, Practice Sessions & Mini clinics. The obstacles are key to practicing the Ease Of Handling and Speed Trials within Working Equitation. Our entire course or several obstacles will be set during each practice session. We will provide different setups with varied obstacles at each session. Come to one or come to all of the practice sessions. You can come to just have some fun with the obstacles or come with the intention of going on to compete and test your skills at schooling shows\, B-Rated\, Regional or National levels.  The sky is the limit. We assure you our practice sessions and course will prepare you for anything you want to do in Working Equitation. Come join the fun.  Look forward to seeing you. \nCurrent 2021 Dates:\n• Feb. 28 – pending weather\n• March 28th\n• April 11th\n• June 4th (show participants have priority)\n• July 24th\n• August 22nd\n• Sept. 3rd (show attendees have priority)\n• Oct. 8th (show attendees have priority)\n• Oct. 31st – Halloween theme. Prizes for best Costume.\n* Check back often as more dates will be added as needed. If interested in a private lesson on obstacles\, please contact us. \nSession Times: 11-2PM unless otherwise specified. Dates subject to change and pending weather. \nParticipants: We will allow up to 10 riders per practice session.   In 2021 pre-registration and payment must be made 5 days prior to actual practice session dates. If there are not a minimum number of participants registered we reserve the right to reschedule/cancel the date.  Due to the labor demands to set the course and the investment KarMik Acres has in the obstacles there will be NO Refunds\, so please make sure you are able to attend prior to registration.  If KarMik Acres cancels or reschedules a session refunds will be issued.
URL:https://www.karmikacres.com/event/working-equitation-practice-session-4/
LOCATION:KarMik Acres\, Woodstock\, IL\, United States
CATEGORIES:Working Equitation Practice Session
ORGANIZER;CN="Karen or Mike":MAILTO:info@karmikacres.com
END:VEVENT
BEGIN:VEVENT
DTSTART;TZID=America/Chicago:20210327T100000
DTEND;TZID=America/Chicago:20210327T160000
DTSTAMP:20260423T182251
CREATED:20210118T172629Z
LAST-MODIFIED:20210118T172629Z
UID:28180-1616839200-1616860800@www.karmikacres.com
SUMMARY:Horseless Intro to Working Equitation Clinic
DESCRIPTION:Come join the fun and challenge of Working Equitation. It’s a sport for all breeds\, disciplines and skill levels. \nOur Horseless Introduction to Working Equitation Clinics provide a great overview to the sport and rules. We’ll review all 4 phases or trials 1) Dressage 2) Ease of Handling 3) Speed and 4) Cattle. \nThe majority of the day will be spent reviewing the requirements for each obstacle in the Ease of Handling and Speed Phases. Along with proper execution of each obstacle\, we’ll discuss strategy for riding a complete course in both Ease of Handling and Speed.  We’ll have a complete course set up to allow participants to do an actual course walk. If time permits we will bring out a horse or two and show the Ease of Handling (EOH) course ridden. \nPlace is limited.  Chairs available.  Arena is heated so dress in layers. Bring a lunch and refreshments. \nClick HERE to Register
URL:https://www.karmikacres.com/event/horseless-intro-to-working-equitation-clinic-3/
LOCATION:KarMik Acres\, Woodstock\, IL\, United States
CATEGORIES:Working Equitation Clinic
ORGANIZER;CN="Karen or Mike":MAILTO:info@karmikacres.com
END:VEVENT
BEGIN:VEVENT
DTSTART;TZID=America/Chicago:20210228T110000
DTEND;TZID=America/Chicago:20210228T140000
DTSTAMP:20260423T182251
CREATED:20210118T193924Z
LAST-MODIFIED:20210118T193924Z
UID:28212-1614510000-1614520800@www.karmikacres.com
SUMMARY:Working Equitation Practice Sessions
DESCRIPTION:We’ve constructed an over-the-top\, regulation obstacle course for the Working Equitation Shows\, Practice Sessions & Mini clinics. The obstacles are key to practicing the Ease Of Handling and Speed Trials within Working Equitation. Our entire course or several obstacles will be set during each practice session. We will provide different setups with varied obstacles at each session. Come to one or come to all of the practice sessions. You can come to just have some fun with the obstacles or come with the intention of going on to compete and test your skills at schooling shows\, B-Rated\, Regional or National levels.  The sky is the limit. We assure you our practice sessions and course will prepare you for anything you want to do in Working Equitation. Come join the fun.  Look forward to seeing you. \nCurrent 2021 Dates:\n• Feb. 28 – pending weather\n• March 28th\n• April 11th\n• June 4th (show participants have priority)\n• July 24th\n• August 22nd\n• Sept. 3rd (show attendees have priority)\n• Oct. 8th (show attendees have priority)\n• Oct. 31st – Halloween theme. Prizes for best Costume.\n* Check back often as more dates will be added as needed. If interested in a private lesson on obstacles\, please contact us. \nSession Times: 11-2PM unless otherwise specified. Dates subject to change and pending weather. \nParticipants: We will allow up to 10 riders per practice session.   In 2021 pre-registration and payment must be made 5 days prior to actual practice session dates. If there are not a minimum number of participants registered we reserve the right to reschedule/cancel the date.  Due to the labor demands to set the course and the investment KarMik Acres has in the obstacles there will be NO Refunds\, so please make sure you are able to attend prior to registration.  If KarMik Acres cancels or reschedules a session refunds will be issued.
URL:https://www.karmikacres.com/event/working-equitation-practice-sessions/
LOCATION:KarMik Acres\, Woodstock\, IL\, United States
CATEGORIES:Working Equitation Practice Session
ORGANIZER;CN="Karen or Mike":MAILTO:info@karmikacres.com
END:VEVENT
BEGIN:VEVENT
DTSTART;TZID=America/Chicago:20210227T100000
DTEND;TZID=America/Chicago:20210227T160000
DTSTAMP:20260423T182251
CREATED:20210118T172238Z
LAST-MODIFIED:20210118T172238Z
UID:28178-1614420000-1614441600@www.karmikacres.com
SUMMARY:Horseless Intro to Working Equitation Clinic
DESCRIPTION:Come join the fun and challenge of Working Equitation. It’s a sport for all breeds\, disciplines and skill levels. \nOur Horseless Introduction to Working Equitation Clinics provide a great overview to the sport and rules. We’ll review all 4 phases or trials 1) Dressage 2) Ease of Handling 3) Speed and 4) Cattle. \nThe majority of the day will be spent reviewing the requirements for each obstacle in the Ease of Handling and Speed Phases. Along with proper execution of each obstacle\, we’ll discuss strategy for riding a complete course in both Ease of Handling and Speed.  We’ll have a complete course set up to allow participants to do an actual course walk. If time permits we will bring out a horse or two and show the Ease of Handling (EOH) course ridden. \nPlace is limited.  Chairs available.  Arena is heated so dress in layers. Bring a lunch and refreshments. \nClick HERE to Register
URL:https://www.karmikacres.com/event/horseless-intro-to-working-equitation-clinic-2/
LOCATION:KarMik Acres\, Woodstock\, IL\, United States
CATEGORIES:Working Equitation Clinic
ORGANIZER;CN="Karen or Mike":MAILTO:info@karmikacres.com
END:VEVENT
BEGIN:VEVENT
DTSTART;TZID=America/Chicago:20201108T100000
DTEND;TZID=America/Chicago:20201108T163000
DTSTAMP:20260423T182251
CREATED:20201015T165641Z
LAST-MODIFIED:20201015T165641Z
UID:28172-1604829600-1604853000@www.karmikacres.com
SUMMARY:Working Equitation Obstacle Clinic
DESCRIPTION:See details here. \nPre-registration required. Space is limited.  Email Info@KarMikAcres.com with any questions. \n 
URL:https://www.karmikacres.com/event/working-equitation-obstacle-clinic/
LOCATION:KarMik Acres\, Woodstock\, IL\, United States
CATEGORIES:Working Equitation Clinic
END:VEVENT
BEGIN:VEVENT
DTSTART;TZID=America/Chicago:20201108T090000
DTEND;TZID=America/Chicago:20201108T170000
DTSTAMP:20260423T182251
CREATED:20200128T181440Z
LAST-MODIFIED:20201015T165823Z
UID:2472-1604826000-1604854800@www.karmikacres.com
SUMMARY:Meadowsweet Ranch Working Equitation Schooling Show
DESCRIPTION:Low pressure environment to have some fun\, try something new and put your horsemanship to the test. \nLimited to 15 riders. Levels 1-5. Judged by Karen Boso \nContact Kathy at Meadowsweet for registration and costs. \n 
URL:https://www.karmikacres.com/event/meadowsweet-ranch-working-equitation-schooling-show-2/
LOCATION:Meadowsweet Ranch\, Spring Grove\, IL\, Spring Grove\, IL\, United States
CATEGORIES:Working Equitation Shows
END:VEVENT
BEGIN:VEVENT
DTSTART;TZID=America/Chicago:20201101T100000
DTEND;TZID=America/Chicago:20201101T160000
DTSTAMP:20260423T182251
CREATED:20201015T165440Z
LAST-MODIFIED:20201015T165440Z
UID:28170-1604224800-1604246400@www.karmikacres.com
SUMMARY:Horseless Intro to Working Equitation
DESCRIPTION:See details here. \nPre-registration required. Email with any questions.
URL:https://www.karmikacres.com/event/horseless-intro-to-working-equitation/
LOCATION:IL
CATEGORIES:Working Equitation Clinic
ORGANIZER;CN="Karen or Mike":MAILTO:info@karmikacres.com
END:VEVENT
BEGIN:VEVENT
DTSTART;TZID=America/Chicago:20201024T080000
DTEND;TZID=America/Chicago:20201025T170000
DTSTAMP:20260423T182251
CREATED:20200126T223704Z
LAST-MODIFIED:20200604T182315Z
UID:2119-1603526400-1603645200@www.karmikacres.com
SUMMARY:Working Equitation Shows October 24 & 25th
DESCRIPTION:These are two separate one day Working Equitation shows (Saturday and Sunday) and part of a KarMik Acres’ 10 show series for year end awards. \nOther shows in Year End Series\n• May 2 & 3rd at KarMik Acres – Cancelled due to Covid-19\n• June 13 & 14th – Cancelled due to Covid-19\n• July 25 & 26th at KarMik Acres\n• August 29 & 30th at KarMik Acres \nJudge:  Doreen Atkinson “S” rating\nTD: TBD\nShow Manage/Secretary: Karen Boso\nLevels: Intro Level 1 through Masters Level 7 – All classes will be Open Divisions\nLocation: KarMik Acres \nU.S. Rules for Working Equitation will be used. \nLimited to 10 outside riders. Pre-registration required. Email for details\, registration link and fees.
URL:https://www.karmikacres.com/event/working-equitation-shows-5/
LOCATION:KarMik Acres\, Woodstock\, IL\, United States
CATEGORIES:Working Equitation Shows
ORGANIZER;CN="Karen or Mike":MAILTO:info@karmikacres.com
END:VEVENT
BEGIN:VEVENT
DTSTART;TZID=America/Chicago:20201023T110000
DTEND;TZID=America/Chicago:20201023T163000
DTSTAMP:20260423T182251
CREATED:20200126T221832Z
LAST-MODIFIED:20200126T221832Z
UID:2109-1603450800-1603470600@www.karmikacres.com
SUMMARY:Working Equitation Practice Session
DESCRIPTION:Working Equitation Practice Sessions requires pre-registration. Show attendees will get priority registration.
URL:https://www.karmikacres.com/event/working-equitation-practice-session-10/
LOCATION:KarMik Acres\, Woodstock\, IL\, United States
CATEGORIES:Working Equitation Practice Session
ORGANIZER;CN="Karen or Mike":MAILTO:info@karmikacres.com
END:VEVENT
BEGIN:VEVENT
DTSTART;TZID=America/Chicago:20200822T080000
DTEND;TZID=America/Chicago:20200823T170000
DTSTAMP:20260423T182251
CREATED:20200126T223548Z
LAST-MODIFIED:20200727T172909Z
UID:2117-1598083200-1598202000@www.karmikacres.com
SUMMARY:Working Equitation Shows - August 22 & 23th
DESCRIPTION:These are two separate one day Working Equitation shows (Saturday and Sunday) and part of a KarMik Acres’ show series for year end awards. Practice session on Friday\, Aug. 21st from 11-4PM. Pre-registration required. \nOther shows in Year End Series\n• B-Rated Sept. 19 & 20th at KarMik Acres\n• B-Rated Oct. 24 & 25th at KarMik Acres \nJudge:  Lidia Taylor\nTD: Karen Ulven\nScribe: Karen Boso\nShow Manager/Secretary: Mike Boso\nLevels: Intro Level 1 through Int. B – All classes will be Open Divisions\nLocation: KarMik Acres \nU.S. Rules for Working Equitation will be used. \nLimited to 10 outside riders. Pre-registration required. Email for details\, registration link and fees.
URL:https://www.karmikacres.com/event/working-equitation-shows-4/
LOCATION:KarMik Acres\, Woodstock\, IL\, United States
CATEGORIES:Working Equitation Shows
ORGANIZER;CN="Karen or Mike":MAILTO:info@karmikacres.com
END:VEVENT
BEGIN:VEVENT
DTSTART;TZID=America/Chicago:20200821T110000
DTEND;TZID=America/Chicago:20200821T163000
DTSTAMP:20260423T182251
CREATED:20200126T221656Z
LAST-MODIFIED:20200727T172955Z
UID:2107-1598007600-1598027400@www.karmikacres.com
SUMMARY:Working Equitation Practice Session
DESCRIPTION:Working Equitation Practice Session requires Pre-registration. Show attendees get priority registration.
URL:https://www.karmikacres.com/event/working-equitation-practice-session-9/
LOCATION:KarMik Acres\, Woodstock\, IL\, United States
CATEGORIES:Working Equitation Practice Session
ORGANIZER;CN="Karen or Mike":MAILTO:info@karmikacres.com
END:VEVENT
BEGIN:VEVENT
DTSTART;TZID=America/Chicago:20200808T110000
DTEND;TZID=America/Chicago:20200808T140000
DTSTAMP:20260423T182251
CREATED:20200727T171237Z
LAST-MODIFIED:20200727T171237Z
UID:17704-1596884400-1596895200@www.karmikacres.com
SUMMARY:Working Equitation Practice Session
DESCRIPTION:Time: 11-2PM\nCost: $40\nStall needed: $25\nGroup Coaching: $25 \nPrior Working Equitation experience or KarMik Acres WE Horseless Clinic Attendance.  Team KarMik Membership and negative coggins also required to attend. \nPre-registration required. Space is limited.
URL:https://www.karmikacres.com/event/working-equitation-practice-session-3/
LOCATION:KarMik Acres\, Woodstock\, IL\, United States
CATEGORIES:Working Equitation Practice Session
ORGANIZER;CN="Karen or Mike":MAILTO:info@karmikacres.com
END:VEVENT
BEGIN:VEVENT
DTSTART;TZID=America/Chicago:20200726T110000
DTEND;TZID=America/Chicago:20200726T140000
DTSTAMP:20260423T182251
CREATED:20200126T030702Z
LAST-MODIFIED:20200727T172645Z
UID:2018-1595761200-1595772000@www.karmikacres.com
SUMMARY:Working Equitation Practice Session
DESCRIPTION:Pre-registration required. Show attendees get priority registration.  Email for availability prior to registration.
URL:https://www.karmikacres.com/event/working-equitation-practice-session-8/
LOCATION:KarMik Acres\, Woodstock\, IL\, United States
CATEGORIES:Working Equitation Practice Session
ORGANIZER;CN="Karen or Mike":MAILTO:info@karmikacres.com
END:VEVENT
BEGIN:VEVENT
DTSTART;TZID=America/Chicago:20200718T110000
DTEND;TZID=America/Chicago:20200718T140000
DTSTAMP:20260423T182251
CREATED:20200126T030440Z
LAST-MODIFIED:20200619T125112Z
UID:2016-1595070000-1595080800@www.karmikacres.com
SUMMARY:Working Equitation Practice Session
DESCRIPTION:Pre-registration is required.
URL:https://www.karmikacres.com/event/working-equitation-practice-session-7/
LOCATION:KarMik Acres\, Woodstock\, IL\, United States
CATEGORIES:Working Equitation Practice Session
ORGANIZER;CN="Karen or Mike":MAILTO:info@karmikacres.com
END:VEVENT
BEGIN:VEVENT
DTSTART;TZID=America/Chicago:20200628T110000
DTEND;TZID=America/Chicago:20200628T140000
DTSTAMP:20260423T182251
CREATED:20200604T181125Z
LAST-MODIFIED:20200604T181810Z
UID:13759-1593342000-1593352800@www.karmikacres.com
SUMMARY:Working Equitation Practice
DESCRIPTION:Working Equitation obstacle practice session runs from 11-2PM. Online pre-registration is required. \n$40 per session\n$25 for dry stall if required\n$25 for group coaching \n* All riders must be members of Team KarMik to attend practice sessions ($25 annually).
URL:https://www.karmikacres.com/event/working-equitation-practice-2/
LOCATION:KarMik Acres\, Woodstock\, IL\, United States
CATEGORIES:Working Equitation Practice Session
END:VEVENT
BEGIN:VEVENT
DTSTART;TZID=America/Chicago:20200627T090000
DTEND;TZID=America/Chicago:20200627T170000
DTSTAMP:20260423T182251
CREATED:20200604T180725Z
LAST-MODIFIED:20200604T180725Z
UID:13757-1593248400-1593277200@www.karmikacres.com
SUMMARY:Working Equitation Show Preparation
DESCRIPTION:These will be individual rides focusing on the Dressage and Ease of Handling phases. It will allow riders to be coached through and/or be judged with actual score sheets through each phase. \nRiders will get lots of feedback on improvements for both execution and strategy.  Rides just like a show but with coaching input and no pressure. \nOnline pre-registration is required.
URL:https://www.karmikacres.com/event/working-equitation-show-preparation/
LOCATION:KarMik Acres\, Woodstock\, IL\, United States
CATEGORIES:Working Equitation Clinic
END:VEVENT
BEGIN:VEVENT
DTSTART;TZID=America/Chicago:20200614T110000
DTEND;TZID=America/Chicago:20200614T140000
DTSTAMP:20260423T182251
CREATED:20200604T175342Z
LAST-MODIFIED:20200604T175342Z
UID:13712-1592132400-1592143200@www.karmikacres.com
SUMMARY:Working Equitation Practice
DESCRIPTION:Practice session from 11-2PM. \n$40 – per rider\n$25 – dry stall if needed\n$25 – group coaching \nSpace is limited to 8 riders. Online Pre-registration required. No spectators due to Covid restrictions. \n* Riders must be Team KarMik members to attend practice sessions ($25 annually).
URL:https://www.karmikacres.com/event/working-equitation-practice/
LOCATION:KarMik Acres\, Woodstock\, IL\, United States
CATEGORIES:Working Equitation Practice Session
END:VEVENT
BEGIN:VEVENT
DTSTART;VALUE=DATE:20200613
DTEND;VALUE=DATE:20200614
DTSTAMP:20260423T182251
CREATED:20200126T223227Z
LAST-MODIFIED:20200604T175435Z
UID:2113-1592006400-1592092799@www.karmikacres.com
SUMMARY:Working Equitation Clinic
DESCRIPTION:This one day Working Equitation clinic will focus on the Ease of Handling phase and the proper execution of each obstacle. If time permits riders will work on mini courses. Riders of all levels welcome. \nLimited to 8riders. Pre-registration required. Click here for details\, registration link and fees. \nEmail info@karmikacres.com with any questions.
URL:https://www.karmikacres.com/event/working-equitation-shows-2/
LOCATION:KarMik Acres\, Woodstock\, IL\, United States
CATEGORIES:Working Equitation Clinic
ORGANIZER;CN="Karen or Mike":MAILTO:info@karmikacres.com
END:VEVENT
BEGIN:VEVENT
DTSTART;TZID=America/Chicago:20200321T100000
DTEND;TZID=America/Chicago:20200321T170000
DTSTAMP:20260423T182251
CREATED:20200126T230142Z
LAST-MODIFIED:20200126T230142Z
UID:2133-1584784800-1584810000@www.karmikacres.com
SUMMARY:Working Equitation Clinic
DESCRIPTION:This Working Equitation clinic at KarMik Acres will focus on progression with the Obstacles for Ease of Handing. We will review proper execution of each obstacle as well as ways to improve your scores and move up the levels.  All levels of riders and all disciplines welcome. \nClinic is taught by Karen (Judge and TD) and Mike who both actively compete in Working Equitation and have multiple Championships with several horses. \nSpace is limited to 8 riders. Pre-registration is required. \nCost: $125 which includes use of a stall for the day.
URL:https://www.karmikacres.com/event/working-equitation-clinic/
LOCATION:KarMik Acres\, Woodstock\, IL\, United States
CATEGORIES:Working Equitation Clinic
ORGANIZER;CN="Karen or Mike":MAILTO:info@karmikacres.com
END:VEVENT
BEGIN:VEVENT
DTSTART;TZID=America/Chicago:20200315T100000
DTEND;TZID=America/Chicago:20200315T160000
DTSTAMP:20260423T182251
CREATED:20200126T230803Z
LAST-MODIFIED:20200218T202007Z
UID:2137-1584266400-1584288000@www.karmikacres.com
SUMMARY:Horseless Intro to Working Equitation Clinic (Mar. 15)
DESCRIPTION:Horseless Intro to Working Equitation will discuss all four phases or trials of the sport. The focus will be on the Ease of Handling phase\,  proper execution of each obstacle and course strategy.  We will do an actual course walk and discuss the different strategies for Ease of Handling and Speed phases. \nCost is $40 per person.  Kids under 18 are free – must be accompanied by an adult. \nPre-registration is required and space is limited. \nWill be held in our indoor arena where we have HEAT.  Chairs are provided.  Bring a lunch and refreshments.
URL:https://www.karmikacres.com/event/horseless-intro-to-working-equitation-clinic-mar-14/
LOCATION:KarMik Acres\, Woodstock\, IL\, United States
CATEGORIES:Working Equitation Clinic
END:VEVENT
BEGIN:VEVENT
DTSTART;TZID=America/Chicago:20200314T110000
DTEND;TZID=America/Chicago:20200314T140000
DTSTAMP:20260423T182251
CREATED:20200125T222834Z
LAST-MODIFIED:20200218T201839Z
UID:1900-1584183600-1584194400@www.karmikacres.com
SUMMARY:Working Equitation Practice Session
DESCRIPTION:Pre-registration required.  Pending weather so please email prior to registration.
URL:https://www.karmikacres.com/event/working-equitation-practice-session/
LOCATION:KarMik Acres\, Woodstock\, IL\, United States
CATEGORIES:Working Equitation Practice Session
ORGANIZER;CN="Karen or Mike":MAILTO:info@karmikacres.com
END:VEVENT
BEGIN:VEVENT
DTSTART;TZID=America/Chicago:20200223T110000
DTEND;TZID=America/Chicago:20200223T140000
DTSTAMP:20260423T182251
CREATED:20200127T212340Z
LAST-MODIFIED:20200127T212601Z
UID:2323-1582455600-1582466400@www.karmikacres.com
SUMMARY:Working Equitation Practice Session
DESCRIPTION:Pending Weather.  Pre-registration required. Registration fee will be refunded if we cancel due to weather. \nIf you haven’t already\, please make sure to join Team KarMik to be able to attend practice sessions. This is an annual membership fee to help with obstacle up-keep.
URL:https://www.karmikacres.com/event/working-equitation-practice-session-11/
LOCATION:KarMik Acres\, Woodstock\, IL\, United States
CATEGORIES:Working Equitation Practice Session
ORGANIZER;CN="Karen or Mike":MAILTO:info@karmikacres.com
END:VEVENT
BEGIN:VEVENT
DTSTART;TZID=America/Chicago:20200216T110000
DTEND;TZID=America/Chicago:20200216T140000
DTSTAMP:20260423T182251
CREATED:20200126T024814Z
LAST-MODIFIED:20200126T024814Z
UID:1960-1581850800-1581861600@www.karmikacres.com
SUMMARY:Working Equitation Practice Session
DESCRIPTION:Pre-registration required. Pending weather so please email prior to registration.
URL:https://www.karmikacres.com/event/working-equitation-practice-session-2/
LOCATION:KarMik Acres\, Woodstock\, IL\, United States
CATEGORIES:Working Equitation Practice Session
ORGANIZER;CN="Karen or Mike":MAILTO:info@karmikacres.com
END:VEVENT
BEGIN:VEVENT
DTSTART;TZID=America/Chicago:20200215T100000
DTEND;TZID=America/Chicago:20200215T163000
DTSTAMP:20260423T182251
CREATED:20200127T202311Z
LAST-MODIFIED:20200127T210208Z
UID:2319-1581760800-1581784200@www.karmikacres.com
SUMMARY:Horseless Intro to Working Equitation Clinic
DESCRIPTION:2020 Revised rules for Working Equitation are out!  Those new to the sport will be excited about the changes to help Intro riders get started in the sport. \nIn this mini clinic we will review the 4 phases of the sport\, the rules and walk through the requirements of each obstacle in the EOH and Speed phases. We will also talk about strategy when riding Ease of Handling and speed and how they differ. We’ll do an actual course walk. Clinic is taught by a Licensed Technical Delegate and Judge for the sport of Working Equitation. \nStarts at 10am and goes till around 4PM. Space is limited and pre-registration is required. $40 per person. Bring a lunch – we have chairs and HEAT! AND you don’t have to trailer your horse – no horses required in this clinic. We will do a demo ride for the group. \nCome have some fun\, meet new people and learn about this great sport. Any rider level or discipline encouraged to participate.
URL:https://www.karmikacres.com/event/horseless-intro-to-working-equitation-clinic/
LOCATION:KarMik Acres\, Woodstock\, IL\, United States
CATEGORIES:Working Equitation Clinic
END:VEVENT
BEGIN:VEVENT
DTSTART;TZID=America/Chicago:20200126T080000
DTEND;TZID=America/Chicago:20200126T170000
DTSTAMP:20260423T182251
CREATED:20200126T230644Z
LAST-MODIFIED:20200126T230644Z
UID:2135-1580025600-1580058000@www.karmikacres.com
SUMMARY:Horseless Intro to Working Equitation Clinic (Feb. 15)
DESCRIPTION:Horseless Intro to Working Equitation will discuss all four phases or trials of the sport. The focus will be on the Ease of Handling phase\,  proper execution of each obstacle and course strategy.  We will do an actual course walk and discuss the different strategies for Ease of Handling and Speed phases. \nCost is $40 per person.  Children under 18 are free. \nPre-registration is required and space is limited. \nWill be held in our indoor arena where we have HEAT.  Chairs are provided.  Bring a lunch and refreshments.
URL:https://www.karmikacres.com/event/horseless-intro-to-working-equitation-clinic-feb-15/
LOCATION:KarMik Acres\, Woodstock\, IL\, United States
CATEGORIES:Working Equitation Clinic
ORGANIZER;CN="Karen or Mike":MAILTO:info@karmikacres.com
END:VEVENT
END:VCALENDAR